BEGIN:VCALENDAR
VERSION:2.0
PRODID:-//eventon.com NONSGML v1.0//EN
CALSCALE:GREGORIAN
METHOD:PUBLISH
BEGIN:VEVENT
UID:69e989953d6ac
DTSTAMP:20260423T025309Z
DTSTART:20260516T074500Z
DTEND:20260516T110000Z
LOCATION:
SUMMARY:Noordwijk – Noordwijkse Dag van het Strand
DESCRIPTION:Wat: Natuuractiviteiten en excursies op het strand Waar: Strand
  van Noordwijk aan Zee (KNRM) en Langevelderslag Wanneer en hoe laat: zater
 dag 16 mei van 09.45 tot 13.00 uur Kosten: Gratis\,  aanmelden aanbevolen H
 ieronder volgt informatie van de organisator:Ontdek de Noordwijkse kust tij
 dens de Dag van het StrandOp zaterdag 16 mei[..]\nhttps://www.bollenstreeko
 mroep.nl/events/noordwijk-noordwijkse-dag-van-het-strand/
URL:https://www.bollenstreekomroep.nl/events/noordwijk-noordwijkse-dag-van-het-strand/
END:VEVENT
END:VCALENDAR