BEGIN:VCALENDAR
VERSION:2.0
PRODID:-//eventon.com NONSGML v1.0//EN
CALSCALE:GREGORIAN
METHOD:PUBLISH
BEGIN:VEVENT
UID:69ebf1a760f8a
DTSTAMP:20260424T224143Z
DTSTART:20260423
DTEND:20260424
LOCATION:
SUMMARY:Noordwijk - Uitagenda Theater De Muze
DESCRIPTION:Wat: Uitagenda Theater De Muze van 23 april t/m 17 mei Waar: Th
 eater De Muze\,  Wantveld 2\,  Noordwijk Wanneer: ga naar onderstaande info
 rmatie voor de data Kosten: ga naar onderstaande informatie voor de kosten 
 Hieronder de informatie van de organisator: The Super Mario Galaxy Movie (O
 V)25 april\,  26 april\,  29[..]\nhttps://www.bollenstreekomroep.nl/events/
 noordwijk-uitagenda-theater-de-muze/
URL:https://www.bollenstreekomroep.nl/events/noordwijk-uitagenda-theater-de-muze/
END:VEVENT
END:VCALENDAR